BEGIN:VCALENDAR
VERSION:2.0
PRODID:-//FDP Durlach - ECPv6.15.20//NONSGML v1.0//EN
CALSCALE:GREGORIAN
METHOD:PUBLISH
X-WR-CALNAME:FDP Durlach
X-ORIGINAL-URL:https://fdp-durlach.de
X-WR-CALDESC:Veranstaltungen für FDP Durlach
REFRESH-INTERVAL;VALUE=DURATION:PT1H
X-Robots-Tag:noindex
X-PUBLISHED-TTL:PT1H
BEGIN:VTIMEZONE
TZID:Europe/Berlin
BEGIN:DAYLIGHT
TZOFFSETFROM:+0100
TZOFFSETTO:+0200
TZNAME:CEST
DTSTART:20200329T010000
END:DAYLIGHT
BEGIN:STANDARD
TZOFFSETFROM:+0200
TZOFFSETTO:+0100
TZNAME:CET
DTSTART:20201025T010000
END:STANDARD
BEGIN:DAYLIGHT
TZOFFSETFROM:+0100
TZOFFSETTO:+0200
TZNAME:CEST
DTSTART:20210328T010000
END:DAYLIGHT
BEGIN:STANDARD
TZOFFSETFROM:+0200
TZOFFSETTO:+0100
TZNAME:CET
DTSTART:20211031T010000
END:STANDARD
BEGIN:DAYLIGHT
TZOFFSETFROM:+0100
TZOFFSETTO:+0200
TZNAME:CEST
DTSTART:20220327T010000
END:DAYLIGHT
BEGIN:STANDARD
TZOFFSETFROM:+0200
TZOFFSETTO:+0100
TZNAME:CET
DTSTART:20221030T010000
END:STANDARD
END:VTIMEZONE
BEGIN:VEVENT
DTSTART;TZID=Europe/Berlin:20211202T200000
DTEND;TZID=Europe/Berlin:20211202T200000
DTSTAMP:20260425T124229
CREATED:20201231T211608Z
LAST-MODIFIED:20211129T183840Z
UID:2337-1638475200-1638475200@fdp-durlach.de
SUMMARY:Monatstreffen der FDP Durlach
DESCRIPTION:(Fast) immer am ersten Donnerstag jeden Monats. Gäste sind immer herzlich willkommen. \nIm Dezember wollen wir uns wieder online treffen. Zur Teilnahme rufen Sie bitte diese Webseite auf: https://meet.ffmuc.net/FDPDurlach. Bitte verwenden Sie als Webbrowser nicht Firefox\, sondern zum Beispiel Chrome. \nWir freuen uns\, zu unserem Treffen den Vorsitzenden unseres FDP-Kreisverbands Karlsruhe-Stadt\, Hendrik van Ryk\, begrüßen zu dürfen!
URL:https://fdp-durlach.de/veranstaltung/monatstreffen-der-fdp-durlach-67/
CATEGORIES:Monatstreffen
END:VEVENT
BEGIN:VEVENT
DTSTART;TZID=Europe/Berlin:20211208T170000
DTEND;TZID=Europe/Berlin:20211208T190000
DTSTAMP:20260425T124229
CREATED:20201231T214521Z
LAST-MODIFIED:20201231T214521Z
UID:2359-1638982800-1638990000@fdp-durlach.de
SUMMARY:Sitzung des Durlacher Ortschaftsrates
DESCRIPTION:Hier gibt es rechtzeitig die Tagesordnung und weitere Informationen.
URL:https://fdp-durlach.de/veranstaltung/sitzung-des-durlacher-ortschaftsrates-52/
LOCATION:Karlsburg\, Pfinztalstraße 9\, Durlach\, 76227\, Deutschland
CATEGORIES:Durlach
END:VEVENT
END:VCALENDAR