BEGIN:VCALENDAR
VERSION:2.0
PRODID:-//FDP Durlach - ECPv6.15.20//NONSGML v1.0//EN
CALSCALE:GREGORIAN
METHOD:PUBLISH
X-WR-CALNAME:FDP Durlach
X-ORIGINAL-URL:https://fdp-durlach.de
X-WR-CALDESC:Veranstaltungen für FDP Durlach
REFRESH-INTERVAL;VALUE=DURATION:PT1H
X-Robots-Tag:noindex
X-PUBLISHED-TTL:PT1H
BEGIN:VTIMEZONE
TZID:Europe/Berlin
BEGIN:DAYLIGHT
TZOFFSETFROM:+0100
TZOFFSETTO:+0200
TZNAME:CEST
DTSTART:20210328T010000
END:DAYLIGHT
BEGIN:STANDARD
TZOFFSETFROM:+0200
TZOFFSETTO:+0100
TZNAME:CET
DTSTART:20211031T010000
END:STANDARD
BEGIN:DAYLIGHT
TZOFFSETFROM:+0100
TZOFFSETTO:+0200
TZNAME:CEST
DTSTART:20220327T010000
END:DAYLIGHT
BEGIN:STANDARD
TZOFFSETFROM:+0200
TZOFFSETTO:+0100
TZNAME:CET
DTSTART:20221030T010000
END:STANDARD
BEGIN:DAYLIGHT
TZOFFSETFROM:+0100
TZOFFSETTO:+0200
TZNAME:CEST
DTSTART:20230326T010000
END:DAYLIGHT
BEGIN:STANDARD
TZOFFSETFROM:+0200
TZOFFSETTO:+0100
TZNAME:CET
DTSTART:20231029T010000
END:STANDARD
END:VTIMEZONE
BEGIN:VEVENT
DTSTART;TZID=Europe/Berlin:20220406T170000
DTEND;TZID=Europe/Berlin:20220406T190000
DTSTAMP:20260425T060341
CREATED:20211129T185832Z
LAST-MODIFIED:20211129T185832Z
UID:2591-1649264400-1649271600@fdp-durlach.de
SUMMARY:Sitzung des Durlacher Ortschaftsrates
DESCRIPTION:Hier gibt es rechtzeitig die Tagesordnung und weitere Informationen.
URL:https://fdp-durlach.de/veranstaltung/sitzung-des-durlacher-ortschaftsrates-55/
LOCATION:Karlsburg\, Pfinztalstraße 9\, Durlach\, 76227\, Deutschland
CATEGORIES:Durlach
END:VEVENT
END:VCALENDAR