BEGIN:VCALENDAR
VERSION:2.0
PRODID:-//FDP Durlach - ECPv6.15.20//NONSGML v1.0//EN
CALSCALE:GREGORIAN
METHOD:PUBLISH
X-ORIGINAL-URL:https://fdp-durlach.de
X-WR-CALDESC:Veranstaltungen für FDP Durlach
REFRESH-INTERVAL;VALUE=DURATION:PT1H
X-Robots-Tag:noindex
X-PUBLISHED-TTL:PT1H
BEGIN:VTIMEZONE
TZID:Europe/Berlin
BEGIN:DAYLIGHT
TZOFFSETFROM:+0100
TZOFFSETTO:+0200
TZNAME:CEST
DTSTART:20210328T010000
END:DAYLIGHT
BEGIN:STANDARD
TZOFFSETFROM:+0200
TZOFFSETTO:+0100
TZNAME:CET
DTSTART:20211031T010000
END:STANDARD
BEGIN:DAYLIGHT
TZOFFSETFROM:+0100
TZOFFSETTO:+0200
TZNAME:CEST
DTSTART:20220327T010000
END:DAYLIGHT
BEGIN:STANDARD
TZOFFSETFROM:+0200
TZOFFSETTO:+0100
TZNAME:CET
DTSTART:20221030T010000
END:STANDARD
BEGIN:DAYLIGHT
TZOFFSETFROM:+0100
TZOFFSETTO:+0200
TZNAME:CEST
DTSTART:20230326T010000
END:DAYLIGHT
BEGIN:STANDARD
TZOFFSETFROM:+0200
TZOFFSETTO:+0100
TZNAME:CET
DTSTART:20231029T010000
END:STANDARD
END:VTIMEZONE
BEGIN:VEVENT
DTSTART;VALUE=DATE:20220701
DTEND;VALUE=DATE:20220703
DTSTAMP:20260425T011451
CREATED:20211129T190807Z
LAST-MODIFIED:20211129T190807Z
UID:2607-1656633600-1656806399@fdp-durlach.de
SUMMARY:44. Durlacher Altstadtfest
DESCRIPTION:
URL:https://fdp-durlach.de/veranstaltung/44-durlacher-altstadtfest/
CATEGORIES:Durlach
END:VEVENT
BEGIN:VEVENT
DTSTART;TZID=Europe/Berlin:20220714T190000
DTEND;TZID=Europe/Berlin:20220714T220000
DTSTAMP:20260425T011451
CREATED:20211129T184454Z
LAST-MODIFIED:20220624T125013Z
UID:2568-1657825200-1657836000@fdp-durlach.de
SUMMARY:Monatstreffen der FDP Durlach
DESCRIPTION:Ausnahmsweise am zweiten Donnerstag im Juli. Gäste sind herzlich willkommen. \nBitte beachten Sie\, daß wir uns bereits ab 19 Uhr am Durlacher Bahnhof treffen und später dann wie gewohnt gegen 20 Uhr in der Alten Durlacher Brauerei sein werden.
URL:https://fdp-durlach.de/veranstaltung/monatstreffen-der-fdp-durlach-73/
LOCATION:Alte Durlacher Brauerei\, Ochsentorstr. 18\, Durlach\, 76227
CATEGORIES:Monatstreffen
END:VEVENT
BEGIN:VEVENT
DTSTART;TZID=Europe/Berlin:20220720T170000
DTEND;TZID=Europe/Berlin:20220720T190000
DTSTAMP:20260425T011451
CREATED:20211129T190055Z
LAST-MODIFIED:20220428T174121Z
UID:2597-1658336400-1658343600@fdp-durlach.de
SUMMARY:Sitzung des Durlacher Ortschaftsrates
DESCRIPTION:Hier gibt es rechtzeitig die Tagesordnung und weitere Informationen.
URL:https://fdp-durlach.de/veranstaltung/sitzung-des-durlacher-ortschaftsrates-58/
LOCATION:Karlsburg\, Pfinztalstraße 9\, Durlach\, 76227\, Deutschland
CATEGORIES:Durlach
END:VEVENT
END:VCALENDAR