BEGIN:VCALENDAR
VERSION:2.0
PRODID:-//FDP Durlach - ECPv6.15.20//NONSGML v1.0//EN
CALSCALE:GREGORIAN
METHOD:PUBLISH
X-WR-CALNAME:FDP Durlach
X-ORIGINAL-URL:https://fdp-durlach.de
X-WR-CALDESC:Veranstaltungen für FDP Durlach
REFRESH-INTERVAL;VALUE=DURATION:PT1H
X-Robots-Tag:noindex
X-PUBLISHED-TTL:PT1H
BEGIN:VTIMEZONE
TZID:Europe/Berlin
BEGIN:DAYLIGHT
TZOFFSETFROM:+0100
TZOFFSETTO:+0200
TZNAME:CEST
DTSTART:20210328T010000
END:DAYLIGHT
BEGIN:STANDARD
TZOFFSETFROM:+0200
TZOFFSETTO:+0100
TZNAME:CET
DTSTART:20211031T010000
END:STANDARD
BEGIN:DAYLIGHT
TZOFFSETFROM:+0100
TZOFFSETTO:+0200
TZNAME:CEST
DTSTART:20220327T010000
END:DAYLIGHT
BEGIN:STANDARD
TZOFFSETFROM:+0200
TZOFFSETTO:+0100
TZNAME:CET
DTSTART:20221030T010000
END:STANDARD
BEGIN:DAYLIGHT
TZOFFSETFROM:+0100
TZOFFSETTO:+0200
TZNAME:CEST
DTSTART:20230326T010000
END:DAYLIGHT
BEGIN:STANDARD
TZOFFSETFROM:+0200
TZOFFSETTO:+0100
TZNAME:CET
DTSTART:20231029T010000
END:STANDARD
END:VTIMEZONE
BEGIN:VEVENT
DTSTART;TZID=Europe/Berlin:20220804T200000
DTEND;TZID=Europe/Berlin:20220804T220000
DTSTAMP:20260424T235138
CREATED:20211129T184525Z
LAST-MODIFIED:20220801T110459Z
UID:2570-1659643200-1659650400@fdp-durlach.de
SUMMARY:Monatstreffen der FDP Durlach
DESCRIPTION:(Fast) immer am ersten Donnerstag jeden Monats. Gäste sind immer herzlich willkommen. \nWir treffen uns in Präsenz im Innenraum der Alten Durlacher Brauerei. Unser Tisch ist durch einen kleinen FDP-Wimpel zu erkennen.
URL:https://fdp-durlach.de/veranstaltung/monatstreffen-der-fdp-durlach-74/
LOCATION:Alte Durlacher Brauerei\, Ochsentorstr. 18\, Durlach\, 76227
CATEGORIES:Monatstreffen
END:VEVENT
END:VCALENDAR