BEGIN:VCALENDAR
VERSION:2.0
PRODID:-//FDP Durlach - ECPv6.15.20//NONSGML v1.0//EN
CALSCALE:GREGORIAN
METHOD:PUBLISH
X-ORIGINAL-URL:https://fdp-durlach.de
X-WR-CALDESC:Veranstaltungen für FDP Durlach
REFRESH-INTERVAL;VALUE=DURATION:PT1H
X-Robots-Tag:noindex
X-PUBLISHED-TTL:PT1H
BEGIN:VTIMEZONE
TZID:Europe/Berlin
BEGIN:DAYLIGHT
TZOFFSETFROM:+0100
TZOFFSETTO:+0200
TZNAME:CEST
DTSTART:20210328T010000
END:DAYLIGHT
BEGIN:STANDARD
TZOFFSETFROM:+0200
TZOFFSETTO:+0100
TZNAME:CET
DTSTART:20211031T010000
END:STANDARD
BEGIN:DAYLIGHT
TZOFFSETFROM:+0100
TZOFFSETTO:+0200
TZNAME:CEST
DTSTART:20220327T010000
END:DAYLIGHT
BEGIN:STANDARD
TZOFFSETFROM:+0200
TZOFFSETTO:+0100
TZNAME:CET
DTSTART:20221030T010000
END:STANDARD
BEGIN:DAYLIGHT
TZOFFSETFROM:+0100
TZOFFSETTO:+0200
TZNAME:CEST
DTSTART:20230326T010000
END:DAYLIGHT
BEGIN:STANDARD
TZOFFSETFROM:+0200
TZOFFSETTO:+0100
TZNAME:CET
DTSTART:20231029T010000
END:STANDARD
END:VTIMEZONE
BEGIN:VEVENT
DTSTART;TZID=Europe/Berlin:20221201T200000
DTEND;TZID=Europe/Berlin:20221201T220000
DTSTAMP:20260424T164615
CREATED:20211129T184727Z
LAST-MODIFIED:20221019T162436Z
UID:2578-1669924800-1669932000@fdp-durlach.de
SUMMARY:Monatstreffen der FDP Durlach
DESCRIPTION:Bitte beachten Sie\, daß es sich am 1.12. um unsere Jahreshauptversammlung handelt\, die wir im geschlossenen Kreis der Parteimitglieder durchführen werden. \nWir treffen uns in der Alten Durlacher Brauerei. Sie erkennen unseren Tisch im hinteren Bereich an einem kleinen FDP-Wimpel.
URL:https://fdp-durlach.de/veranstaltung/monatstreffen-der-fdp-durlach-78/
LOCATION:Alte Durlacher Brauerei\, Ochsentorstr. 18\, Durlach\, 76227
CATEGORIES:Monatstreffen
END:VEVENT
BEGIN:VEVENT
DTSTART;TZID=Europe/Berlin:20221214T170000
DTEND;TZID=Europe/Berlin:20221214T190000
DTSTAMP:20260424T164615
CREATED:20211129T190356Z
LAST-MODIFIED:20220428T174430Z
UID:2605-1671037200-1671044400@fdp-durlach.de
SUMMARY:Sitzung des Durlacher Ortschaftsrates
DESCRIPTION:Hier gibt es rechtzeitig die Tagesordnung und weitere Informationen.
URL:https://fdp-durlach.de/veranstaltung/sitzung-des-durlacher-ortschaftsrates-62/
LOCATION:Karlsburg\, Pfinztalstraße 9\, Durlach\, 76227\, Deutschland
CATEGORIES:Durlach
END:VEVENT
END:VCALENDAR