BEGIN:VCALENDAR
VERSION:2.0
PRODID:-//FDP Durlach - ECPv6.15.20//NONSGML v1.0//EN
CALSCALE:GREGORIAN
METHOD:PUBLISH
X-ORIGINAL-URL:https://fdp-durlach.de
X-WR-CALDESC:Veranstaltungen für FDP Durlach
REFRESH-INTERVAL;VALUE=DURATION:PT1H
X-Robots-Tag:noindex
X-PUBLISHED-TTL:PT1H
BEGIN:VTIMEZONE
TZID:Europe/Berlin
BEGIN:DAYLIGHT
TZOFFSETFROM:+0100
TZOFFSETTO:+0200
TZNAME:CEST
DTSTART:20220327T010000
END:DAYLIGHT
BEGIN:STANDARD
TZOFFSETFROM:+0200
TZOFFSETTO:+0100
TZNAME:CET
DTSTART:20221030T010000
END:STANDARD
BEGIN:DAYLIGHT
TZOFFSETFROM:+0100
TZOFFSETTO:+0200
TZNAME:CEST
DTSTART:20230326T010000
END:DAYLIGHT
BEGIN:STANDARD
TZOFFSETFROM:+0200
TZOFFSETTO:+0100
TZNAME:CET
DTSTART:20231029T010000
END:STANDARD
BEGIN:DAYLIGHT
TZOFFSETFROM:+0100
TZOFFSETTO:+0200
TZNAME:CEST
DTSTART:20240331T010000
END:DAYLIGHT
BEGIN:STANDARD
TZOFFSETFROM:+0200
TZOFFSETTO:+0100
TZNAME:CET
DTSTART:20241027T010000
END:STANDARD
END:VTIMEZONE
BEGIN:VEVENT
DTSTART;TZID=Europe/Berlin:20230105T100000
DTEND;TZID=Europe/Berlin:20230105T100000
DTSTAMP:20260424T145130
CREATED:20230104T083943Z
LAST-MODIFIED:20230104T083943Z
UID:2691-1672912800-1672912800@fdp-durlach.de
SUMMARY:Landesparteitag FDP Baden-Württemberg
DESCRIPTION:Mehr Infos hier.
URL:https://fdp-durlach.de/veranstaltung/landesparteitag-fdp-baden-wuerttemberg/
CATEGORIES:Liberales
END:VEVENT
BEGIN:VEVENT
DTSTART;TZID=Europe/Berlin:20230106T110000
DTEND;TZID=Europe/Berlin:20230106T110000
DTSTAMP:20260424T145130
CREATED:20230104T084041Z
LAST-MODIFIED:20230104T084041Z
UID:2693-1673002800-1673002800@fdp-durlach.de
SUMMARY:Dreikönigskundgebung der FDP Baden-Württemberg
DESCRIPTION:Mehr Infos hier.
URL:https://fdp-durlach.de/veranstaltung/dreikoenigskundgebung-der-fdp-baden-wuerttemberg/
CATEGORIES:Liberales
END:VEVENT
BEGIN:VEVENT
DTSTART;TZID=Europe/Berlin:20230112T200000
DTEND;TZID=Europe/Berlin:20230112T220000
DTSTAMP:20260424T145130
CREATED:20230104T082651Z
LAST-MODIFIED:20230104T082651Z
UID:2666-1673553600-1673560800@fdp-durlach.de
SUMMARY:Monatstreffen der FDP Durlach
DESCRIPTION:Ausnahmsweise aufgrund des Landesparteitags und der Schulferien erst am zweiten Donnerstag des Monats. Gäste sind immer herzlich willkommen. \nWir treffen uns in der Alten Durlacher Brauerei. Sie erkennen unseren Tisch im hinteren Bereich an einem kleinen FDP-Wimpel.
URL:https://fdp-durlach.de/veranstaltung/monatstreffen-der-fdp-durlach-70/
LOCATION:Alte Durlacher Brauerei\, Ochsentorstr. 18\, Durlach\, 76227
CATEGORIES:Monatstreffen
END:VEVENT
BEGIN:VEVENT
DTSTART;TZID=Europe/Berlin:20230118T170000
DTEND;TZID=Europe/Berlin:20230118T170000
DTSTAMP:20260424T145130
CREATED:20230104T084329Z
LAST-MODIFIED:20230104T084329Z
UID:2695-1674061200-1674061200@fdp-durlach.de
SUMMARY:Sitzung des Durlacher Ortschaftsrats
DESCRIPTION:Mehr Infos hier.
URL:https://fdp-durlach.de/veranstaltung/sitzung-des-durlacher-ortschaftsrats-3/
LOCATION:Karlsburg\, Pfinztalstraße 9\, Durlach\, 76227\, Deutschland
CATEGORIES:Durlach
END:VEVENT
END:VCALENDAR