BEGIN:VCALENDAR
VERSION:2.0
PRODID:-//FDP Durlach - ECPv6.15.20//NONSGML v1.0//EN
CALSCALE:GREGORIAN
METHOD:PUBLISH
X-ORIGINAL-URL:https://fdp-durlach.de
X-WR-CALDESC:Veranstaltungen für FDP Durlach
REFRESH-INTERVAL;VALUE=DURATION:PT1H
X-Robots-Tag:noindex
X-PUBLISHED-TTL:PT1H
BEGIN:VTIMEZONE
TZID:Europe/Berlin
BEGIN:DAYLIGHT
TZOFFSETFROM:+0100
TZOFFSETTO:+0200
TZNAME:CEST
DTSTART:20230326T010000
END:DAYLIGHT
BEGIN:STANDARD
TZOFFSETFROM:+0200
TZOFFSETTO:+0100
TZNAME:CET
DTSTART:20231029T010000
END:STANDARD
BEGIN:DAYLIGHT
TZOFFSETFROM:+0100
TZOFFSETTO:+0200
TZNAME:CEST
DTSTART:20240331T010000
END:DAYLIGHT
BEGIN:STANDARD
TZOFFSETFROM:+0200
TZOFFSETTO:+0100
TZNAME:CET
DTSTART:20241027T010000
END:STANDARD
BEGIN:DAYLIGHT
TZOFFSETFROM:+0100
TZOFFSETTO:+0200
TZNAME:CEST
DTSTART:20250330T010000
END:DAYLIGHT
BEGIN:STANDARD
TZOFFSETFROM:+0200
TZOFFSETTO:+0100
TZNAME:CET
DTSTART:20251026T010000
END:STANDARD
END:VTIMEZONE
BEGIN:VEVENT
DTSTART;TZID=Europe/Berlin:20240502T200000
DTEND;TZID=Europe/Berlin:20240502T220000
DTSTAMP:20260422T185122
CREATED:20240303T115001Z
LAST-MODIFIED:20240303T115001Z
UID:2838-1714680000-1714687200@fdp-durlach.de
SUMMARY:Monatstreffen der FDP Durlach
DESCRIPTION:Wir treffen uns üblicherweise am ersten Donnerstag jeden Monats in der Alten Durlacher Brauerei. Sie erkennen unseren Tisch im hinteren Bereich an einem kleinen FDP-Wimpel.  \nGäste sind herzlich willkommen.
URL:https://fdp-durlach.de/veranstaltung/monatstreffen-der-fdp-durlach-94/
LOCATION:Alte Durlacher Brauerei\, Ochsentorstr. 18\, Durlach\, 76227
CATEGORIES:Monatstreffen
END:VEVENT
BEGIN:VEVENT
DTSTART;TZID=Europe/Berlin:20240504T080000
DTEND;TZID=Europe/Berlin:20240504T160000
DTSTAMP:20260422T185122
CREATED:20240430T163559Z
LAST-MODIFIED:20240430T163856Z
UID:3029-1714809600-1714838400@fdp-durlach.de
SUMMARY:Wahlinfostand
DESCRIPTION:Kommen Sie mit uns in’s Gespräch über Europa\, Karlsruhe und Durlach. Wir stehen am Samstag für Sie vor der Karlsburg.
URL:https://fdp-durlach.de/veranstaltung/wahlinfostand/
LOCATION:Ecke Pfinztalstraße/Marstallstraße\, Durlach Schloßplatz\, Karlsruhe-Durlach\, 76227\, Deutschland
CATEGORIES:Wahlen
END:VEVENT
BEGIN:VEVENT
DTSTART;TZID=Europe/Berlin:20240508T170000
DTEND;TZID=Europe/Berlin:20240508T170000
DTSTAMP:20260422T185122
CREATED:20231206T212122Z
LAST-MODIFIED:20231206T212122Z
UID:2797-1715187600-1715187600@fdp-durlach.de
SUMMARY:Sitzung des Durlacher Ortschaftsrats
DESCRIPTION:Mehr Infos hier.
URL:https://fdp-durlach.de/veranstaltung/sitzung-des-durlacher-ortschaftsrats-18/
LOCATION:Rathaus Durlach\, Pfinztalstr. 33\, Durlach\, 76227
CATEGORIES:Durlach
END:VEVENT
BEGIN:VEVENT
DTSTART;TZID=Europe/Berlin:20240517T190000
DTEND;TZID=Europe/Berlin:20240517T190000
DTSTAMP:20260422T185122
CREATED:20240511T173852Z
LAST-MODIFIED:20240511T175447Z
UID:3066-1715972400-1715972400@fdp-durlach.de
SUMMARY:Andreas Glück MdEP in Karlsruhe
DESCRIPTION:Der FDP-Europaabgeordnete Andreas Glück wird am Freitag den 17. Mai in Karlsruhe sein und einen spannenden Einblick in die Arbeit im Europaparlament geben. \nHierzu lädt der Kreisverband Karlsruhe-Stadt Sie ab 19:00 ins Badisch Brauhaus (Stephanienstraße 38-40) ein. Es wird im Anschluss die Möglichkeit geben\, eigene Fragen zu stellen.
URL:https://fdp-durlach.de/veranstaltung/andreas-glueck-mdep-in-karlsruhe/
LOCATION:Badisch‘ Brauhaus\, Stephanienstraße 38\, Karlsruhe
CATEGORIES:Wahlen
END:VEVENT
BEGIN:VEVENT
DTSTART;TZID=Europe/Berlin:20240518T100000
DTEND;TZID=Europe/Berlin:20240518T160000
DTSTAMP:20260422T185122
CREATED:20240430T163634Z
LAST-MODIFIED:20240430T163841Z
UID:3031-1716026400-1716048000@fdp-durlach.de
SUMMARY:Wahlinfostand
DESCRIPTION:Kommen Sie mit uns in’s Gespräch über Europa\, Karlsruhe und Durlach. Wir stehen am Samstag für Sie vor der Karlsburg.
URL:https://fdp-durlach.de/veranstaltung/wahlinfostand-2/
LOCATION:Ecke Pfinztalstraße/Marstallstraße\, Durlach Schloßplatz\, Karlsruhe-Durlach\, 76227\, Deutschland
CATEGORIES:Wahlen
END:VEVENT
BEGIN:VEVENT
DTSTART;TZID=Europe/Berlin:20240525T080000
DTEND;TZID=Europe/Berlin:20240525T160000
DTSTAMP:20260422T185122
CREATED:20240430T163714Z
LAST-MODIFIED:20240430T163849Z
UID:3033-1716624000-1716652800@fdp-durlach.de
SUMMARY:Wahlinfostand
DESCRIPTION:Kommen Sie mit uns in’s Gespräch über Europa\, Karlsruhe und Durlach. Wir stehen am Samstag für Sie vor der Karlsburg.
URL:https://fdp-durlach.de/veranstaltung/wahlinfostand-3/
LOCATION:Ecke Pfinztalstraße/Marstallstraße\, Durlach Schloßplatz\, Karlsruhe-Durlach\, 76227\, Deutschland
CATEGORIES:Wahlen
END:VEVENT
END:VCALENDAR