BEGIN:VCALENDAR
VERSION:2.0
PRODID:-//FDP Durlach - ECPv6.15.20//NONSGML v1.0//EN
CALSCALE:GREGORIAN
METHOD:PUBLISH
X-WR-CALNAME:FDP Durlach
X-ORIGINAL-URL:https://fdp-durlach.de
X-WR-CALDESC:Veranstaltungen für FDP Durlach
REFRESH-INTERVAL;VALUE=DURATION:PT1H
X-Robots-Tag:noindex
X-PUBLISHED-TTL:PT1H
BEGIN:VTIMEZONE
TZID:Europe/Berlin
BEGIN:DAYLIGHT
TZOFFSETFROM:+0100
TZOFFSETTO:+0200
TZNAME:CEST
DTSTART:20230326T010000
END:DAYLIGHT
BEGIN:STANDARD
TZOFFSETFROM:+0200
TZOFFSETTO:+0100
TZNAME:CET
DTSTART:20231029T010000
END:STANDARD
BEGIN:DAYLIGHT
TZOFFSETFROM:+0100
TZOFFSETTO:+0200
TZNAME:CEST
DTSTART:20240331T010000
END:DAYLIGHT
BEGIN:STANDARD
TZOFFSETFROM:+0200
TZOFFSETTO:+0100
TZNAME:CET
DTSTART:20241027T010000
END:STANDARD
BEGIN:DAYLIGHT
TZOFFSETFROM:+0100
TZOFFSETTO:+0200
TZNAME:CEST
DTSTART:20250330T010000
END:DAYLIGHT
BEGIN:STANDARD
TZOFFSETFROM:+0200
TZOFFSETTO:+0100
TZNAME:CET
DTSTART:20251026T010000
END:STANDARD
END:VTIMEZONE
BEGIN:VEVENT
DTSTART;TZID=Europe/Berlin:20240601T080000
DTEND;TZID=Europe/Berlin:20240601T160000
DTSTAMP:20260422T151022
CREATED:20240430T163926Z
LAST-MODIFIED:20240430T163926Z
UID:3035-1717228800-1717257600@fdp-durlach.de
SUMMARY:Wahlinfostand
DESCRIPTION:Kommen Sie mit uns in’s Gespräch über Europa\, Karlsruhe und Durlach. Wir stehen am Samstag für Sie vor der Karlsburg.
URL:https://fdp-durlach.de/veranstaltung/wahlinfostand-4/
LOCATION:Ecke Pfinztalstraße/Marstallstraße\, Durlach Schloßplatz\, Karlsruhe-Durlach\, 76227\, Deutschland
CATEGORIES:Wahlen
END:VEVENT
BEGIN:VEVENT
DTSTART;TZID=Europe/Berlin:20240605T170000
DTEND;TZID=Europe/Berlin:20240605T170000
DTSTAMP:20260422T151022
CREATED:20231206T212248Z
LAST-MODIFIED:20231206T212248Z
UID:2799-1717606800-1717606800@fdp-durlach.de
SUMMARY:Sitzung des Durlacher Ortschaftsrats
DESCRIPTION:Mehr Infos hier.
URL:https://fdp-durlach.de/veranstaltung/sitzung-des-durlacher-ortschaftsrats-19/
LOCATION:Rathaus Durlach\, Pfinztalstr. 33\, Durlach\, 76227
CATEGORIES:Durlach
END:VEVENT
BEGIN:VEVENT
DTSTART;TZID=Europe/Berlin:20240605T180000
DTEND;TZID=Europe/Berlin:20240605T193000
DTSTAMP:20260422T151022
CREATED:20240511T175403Z
LAST-MODIFIED:20240525T180513Z
UID:3068-1717610400-1717615800@fdp-durlach.de
SUMMARY:Marie-Agnes Strack-Zimmermann besucht Karlsruhe
DESCRIPTION:Bei der Veranstaltung auf dem Karlsruher Marktplatz werden außer der Spitzenkandidatin der Bundes-FDP für die Europawahl Frau Strack-Zimmermann auch Herr Glück MdEP\, Spitzenkandidat der FDP Baden-Württemberg\, und weitere Liberale sprechen.
URL:https://fdp-durlach.de/veranstaltung/marie-agnes-strack-zimmermann-besucht-karlsruhe/
LOCATION:Karlsruher Marktplatz\, Marktplatz\, Karlsruhe\, 76133\, Deutschland
CATEGORIES:Wahlen
END:VEVENT
BEGIN:VEVENT
DTSTART;TZID=Europe/Berlin:20240606T200000
DTEND;TZID=Europe/Berlin:20240606T220000
DTSTAMP:20260422T151022
CREATED:20240303T115115Z
LAST-MODIFIED:20240303T115115Z
UID:2840-1717704000-1717711200@fdp-durlach.de
SUMMARY:Monatstreffen der FDP Durlach
DESCRIPTION:Wir treffen uns üblicherweise am ersten Donnerstag jeden Monats in der Alten Durlacher Brauerei. Sie erkennen unseren Tisch im hinteren Bereich der Gaststätte oder im Biergarten an einem kleinen FDP-Wimpel.  \nGäste sind herzlich willkommen.
URL:https://fdp-durlach.de/veranstaltung/monatstreffen-der-fdp-durlach-95/
LOCATION:Alte Durlacher Brauerei\, Ochsentorstr. 18\, Durlach\, 76227
CATEGORIES:Monatstreffen
END:VEVENT
BEGIN:VEVENT
DTSTART;TZID=Europe/Berlin:20240608T093000
DTEND;TZID=Europe/Berlin:20240608T160000
DTSTAMP:20260422T151022
CREATED:20240430T164013Z
LAST-MODIFIED:20240607T130313Z
UID:3040-1717839000-1717862400@fdp-durlach.de
SUMMARY:Wahlinfostand
DESCRIPTION:Kommen Sie mit uns in’s Gespräch über Europa\, Karlsruhe und Durlach. Wir stehen am Samstag für Sie vor der Karlsburg.
URL:https://fdp-durlach.de/veranstaltung/wahlinfostand-5/
LOCATION:Ecke Pfinztalstraße/Marstallstraße\, Durlach Schloßplatz\, Karlsruhe-Durlach\, 76227\, Deutschland
CATEGORIES:Wahlen
END:VEVENT
BEGIN:VEVENT
DTSTART;VALUE=DATE:20240609
DTEND;VALUE=DATE:20240610
DTSTAMP:20260422T151022
CREATED:20231206T213433Z
LAST-MODIFIED:20231206T213433Z
UID:2813-1717891200-1717977599@fdp-durlach.de
SUMMARY:WAHLTAG
DESCRIPTION:Es wird der Ortschaftsrat\, der Gemeinderat und das Europäische Parlament neu gewählt.
URL:https://fdp-durlach.de/veranstaltung/wahltag/
CATEGORIES:Wahlen
END:VEVENT
END:VCALENDAR