BEGIN:VCALENDAR
VERSION:2.0
PRODID:-//FDP Durlach - ECPv6.15.20//NONSGML v1.0//EN
CALSCALE:GREGORIAN
METHOD:PUBLISH
X-WR-CALNAME:FDP Durlach
X-ORIGINAL-URL:https://fdp-durlach.de
X-WR-CALDESC:Veranstaltungen für FDP Durlach
REFRESH-INTERVAL;VALUE=DURATION:PT1H
X-Robots-Tag:noindex
X-PUBLISHED-TTL:PT1H
BEGIN:VTIMEZONE
TZID:Europe/Berlin
BEGIN:DAYLIGHT
TZOFFSETFROM:+0100
TZOFFSETTO:+0200
TZNAME:CEST
DTSTART:20230326T010000
END:DAYLIGHT
BEGIN:STANDARD
TZOFFSETFROM:+0200
TZOFFSETTO:+0100
TZNAME:CET
DTSTART:20231029T010000
END:STANDARD
BEGIN:DAYLIGHT
TZOFFSETFROM:+0100
TZOFFSETTO:+0200
TZNAME:CEST
DTSTART:20240331T010000
END:DAYLIGHT
BEGIN:STANDARD
TZOFFSETFROM:+0200
TZOFFSETTO:+0100
TZNAME:CET
DTSTART:20241027T010000
END:STANDARD
BEGIN:DAYLIGHT
TZOFFSETFROM:+0100
TZOFFSETTO:+0200
TZNAME:CEST
DTSTART:20250330T010000
END:DAYLIGHT
BEGIN:STANDARD
TZOFFSETFROM:+0200
TZOFFSETTO:+0100
TZNAME:CET
DTSTART:20251026T010000
END:STANDARD
END:VTIMEZONE
BEGIN:VEVENT
DTSTART;TZID=Europe/Berlin:20241010T200000
DTEND;TZID=Europe/Berlin:20241010T220000
DTSTAMP:20260421T203645
CREATED:20240303T115601Z
LAST-MODIFIED:20240303T115601Z
UID:2848-1728590400-1728597600@fdp-durlach.de
SUMMARY:Monatstreffen der FDP Durlach
DESCRIPTION:Im Oktober treffen wir uns wegen des Feiertags eine Woche später. \nWir treffen uns üblicherweise am ersten Donnerstag jeden Monats in der Alten Durlacher Brauerei. Sie erkennen unseren Tisch im hinteren Bereich an einem kleinen FDP-Wimpel.  \nGäste sind herzlich willkommen.
URL:https://fdp-durlach.de/veranstaltung/monatstreffen-der-fdp-durlach-99/
LOCATION:Alte Durlacher Brauerei\, Ochsentorstr. 18\, Durlach\, 76227
CATEGORIES:Monatstreffen
END:VEVENT
BEGIN:VEVENT
DTSTART;TZID=Europe/Berlin:20241016T170000
DTEND;TZID=Europe/Berlin:20241016T170000
DTSTAMP:20260421T203645
CREATED:20231206T212756Z
LAST-MODIFIED:20231206T212756Z
UID:2807-1729098000-1729098000@fdp-durlach.de
SUMMARY:Sitzung des Durlacher Ortschaftsrats
DESCRIPTION:Mehr Infos hier.
URL:https://fdp-durlach.de/veranstaltung/sitzung-des-durlacher-ortschaftsrats-23/
LOCATION:Rathaus Durlach\, Pfinztalstr. 33\, Durlach\, 76227
CATEGORIES:Durlach
END:VEVENT
END:VCALENDAR