BEGIN:VCALENDAR
VERSION:2.0
PRODID:-//FDP Durlach - ECPv6.15.20//NONSGML v1.0//EN
CALSCALE:GREGORIAN
METHOD:PUBLISH
X-WR-CALNAME:FDP Durlach
X-ORIGINAL-URL:https://fdp-durlach.de
X-WR-CALDESC:Veranstaltungen für FDP Durlach
REFRESH-INTERVAL;VALUE=DURATION:PT1H
X-Robots-Tag:noindex
X-PUBLISHED-TTL:PT1H
BEGIN:VTIMEZONE
TZID:Europe/Berlin
BEGIN:DAYLIGHT
TZOFFSETFROM:+0100
TZOFFSETTO:+0200
TZNAME:CEST
DTSTART:20240331T010000
END:DAYLIGHT
BEGIN:STANDARD
TZOFFSETFROM:+0200
TZOFFSETTO:+0100
TZNAME:CET
DTSTART:20241027T010000
END:STANDARD
BEGIN:DAYLIGHT
TZOFFSETFROM:+0100
TZOFFSETTO:+0200
TZNAME:CEST
DTSTART:20250330T010000
END:DAYLIGHT
BEGIN:STANDARD
TZOFFSETFROM:+0200
TZOFFSETTO:+0100
TZNAME:CET
DTSTART:20251026T010000
END:STANDARD
BEGIN:DAYLIGHT
TZOFFSETFROM:+0100
TZOFFSETTO:+0200
TZNAME:CEST
DTSTART:20260329T010000
END:DAYLIGHT
BEGIN:STANDARD
TZOFFSETFROM:+0200
TZOFFSETTO:+0100
TZNAME:CET
DTSTART:20261025T010000
END:STANDARD
END:VTIMEZONE
BEGIN:VEVENT
DTSTART;TZID=Europe/Berlin:20250205T143000
DTEND;TZID=Europe/Berlin:20250205T143000
DTSTAMP:20260421T035544
CREATED:20250201T164401Z
LAST-MODIFIED:20250201T164623Z
UID:3210-1738765800-1738765800@fdp-durlach.de
SUMMARY:Christian Lindner in Durlach
DESCRIPTION:Am Mittwoch\, den 5. Februar\, besucht uns der FDP-Bundesvorsitzende und Spitzenkandidat Christian Lindner. In seiner Rede wird er seine Visionen und Ziele für ein starkes und Deutschland vorstellen. \nDie Veranstaltung findet ab 14:30 in der Karlsburg ein\, Einlaß ab 13:00. Eintritt frei. Bitte planen Sie ausreichend Zeit für die Einlasskontrollen vor Ort ein. Aus Sicherheitsgründen ist die Mitnahme von Rucksäcken\, größeren Taschen und ähnlichen Gegenständen nicht gestattet.
URL:https://fdp-durlach.de/veranstaltung/christian-lindner-in-durlach/
LOCATION:Karlsburg\, Pfinztalstraße 9\, Durlach\, 76227\, Deutschland
CATEGORIES:Wahlen
END:VEVENT
BEGIN:VEVENT
DTSTART;TZID=Europe/Berlin:20250206T200000
DTEND;TZID=Europe/Berlin:20250206T220000
DTSTAMP:20260421T035544
CREATED:20250106T182648Z
LAST-MODIFIED:20250106T182648Z
UID:3156-1738872000-1738879200@fdp-durlach.de
SUMMARY:Monatstreffen der FDP Durlach
DESCRIPTION:Wir treffen uns üblicherweise am ersten Donnerstag jeden Monats in der Alten Durlacher Brauerei. Sie erkennen unseren Tisch im hinteren Bereich an einem kleinen FDP-Wimpel.  \nGäste sind herzlich willkommen.
URL:https://fdp-durlach.de/veranstaltung/monatstreffen-der-fdp-durlach-103/
LOCATION:Alte Durlacher Brauerei\, Ochsentorstr. 18\, Durlach\, 76227
CATEGORIES:Monatstreffen
END:VEVENT
BEGIN:VEVENT
DTSTART;TZID=Europe/Berlin:20250208T090000
DTEND;TZID=Europe/Berlin:20250208T120000
DTSTAMP:20260421T035544
CREATED:20250201T164026Z
LAST-MODIFIED:20250201T164026Z
UID:3208-1739005200-1739016000@fdp-durlach.de
SUMMARY:Wahlkampfstand
DESCRIPTION:Am Samstag\, den 8. Februar können Sie von 9 bis 12 Uhr vor der Karlsburg mit uns Durlacher Liberalen über das Wahlprogramm der Bundes-FDP in’s Gespräch kommen.
URL:https://fdp-durlach.de/veranstaltung/wahlkampfstand-2/
LOCATION:Karlsburg\, Pfinztalstraße 9\, Durlach\, 76227\, Deutschland
CATEGORIES:Wahlen
END:VEVENT
BEGIN:VEVENT
DTSTART;TZID=Europe/Berlin:20250212T170000
DTEND;TZID=Europe/Berlin:20250212T170000
DTSTAMP:20260421T035544
CREATED:20250106T185158Z
LAST-MODIFIED:20250106T185158Z
UID:3183-1739379600-1739379600@fdp-durlach.de
SUMMARY:Sitzung des Durlacher Ortschaftsrats
DESCRIPTION:Mehr Infos hier.
URL:https://fdp-durlach.de/veranstaltung/sitzung-des-durlacher-ortschaftsrats-26/
LOCATION:Rathaus Durlach\, Pfinztalstr. 33\, Durlach\, 76227
CATEGORIES:Durlach
END:VEVENT
END:VCALENDAR