BEGIN:VCALENDAR
VERSION:2.0
PRODID:-//FDP Durlach - ECPv6.15.20//NONSGML v1.0//EN
CALSCALE:GREGORIAN
METHOD:PUBLISH
X-WR-CALNAME:FDP Durlach
X-ORIGINAL-URL:https://fdp-durlach.de
X-WR-CALDESC:Veranstaltungen für FDP Durlach
REFRESH-INTERVAL;VALUE=DURATION:PT1H
X-Robots-Tag:noindex
X-PUBLISHED-TTL:PT1H
BEGIN:VTIMEZONE
TZID:Europe/Berlin
BEGIN:DAYLIGHT
TZOFFSETFROM:+0100
TZOFFSETTO:+0200
TZNAME:CEST
DTSTART:20250330T010000
END:DAYLIGHT
BEGIN:STANDARD
TZOFFSETFROM:+0200
TZOFFSETTO:+0100
TZNAME:CET
DTSTART:20251026T010000
END:STANDARD
BEGIN:DAYLIGHT
TZOFFSETFROM:+0100
TZOFFSETTO:+0200
TZNAME:CEST
DTSTART:20260329T010000
END:DAYLIGHT
BEGIN:STANDARD
TZOFFSETFROM:+0200
TZOFFSETTO:+0100
TZNAME:CET
DTSTART:20261025T010000
END:STANDARD
BEGIN:DAYLIGHT
TZOFFSETFROM:+0100
TZOFFSETTO:+0200
TZNAME:CEST
DTSTART:20270328T010000
END:DAYLIGHT
BEGIN:STANDARD
TZOFFSETFROM:+0200
TZOFFSETTO:+0100
TZNAME:CET
DTSTART:20271031T010000
END:STANDARD
END:VTIMEZONE
BEGIN:VEVENT
DTSTART;TZID=Europe/Berlin:20261203T200000
DTEND;TZID=Europe/Berlin:20261203T220000
DTSTAMP:20260419T201842
CREATED:20260201T124002Z
LAST-MODIFIED:20260201T124002Z
UID:3241-1796328000-1796335200@fdp-durlach.de
SUMMARY:Monatstreffen der FDP Durlach
DESCRIPTION:Wir treffen uns üblicherweise am ersten Donnerstag jeden Monats. \nGäste sind herzlich willkommen.
URL:https://fdp-durlach.de/veranstaltung/monatstreffen-der-fdp-durlach-124/
CATEGORIES:Monatstreffen
END:VEVENT
BEGIN:VEVENT
DTSTART;TZID=Europe/Berlin:20261209T170000
DTEND;TZID=Europe/Berlin:20261209T170000
DTSTAMP:20260419T201842
CREATED:20260201T194616Z
LAST-MODIFIED:20260201T194616Z
UID:3265-1796835600-1796835600@fdp-durlach.de
SUMMARY:Sitzung des Durlacher Ortschaftsrats
DESCRIPTION:Mehr Infos hier.
URL:https://fdp-durlach.de/veranstaltung/sitzung-des-durlacher-ortschaftsrats-45/
LOCATION:Rathaus Durlach\, Pfinztalstr. 33\, Durlach\, 76227
CATEGORIES:Durlach
END:VEVENT
END:VCALENDAR